Workbook
Name waarden: #REF!

Sheet Invoer doelen
B2: Naam school:
B3: Ingevuld door:
B4: Schooljaar:
B5: Schoolweging:
C27: Lezen | E27: Rekenen | G27: Taalverzorging | I27: Totaal
C28: 1F | D28: 2F | E28: 1F | F28: 1S | G28: 1F | H28: 1S | I28: 1F | J28: 2F/1S
B29: Voer hier de eigen ambities in:
B30: Gewogen landelijk gemiddelde: | C30: =IFERROR((VLOOKUP('Uitvoer data'!E1,Verbergen!A:K,6,0)),"") | D30: =IFERROR((VLOOKUP('Uitvoer data'!E1,Verbergen!A:K,7,0)),"") | E30: =IFERROR((VLOOKUP('Uitvoer data'!E1,Verbergen!A:K,10,0)),"") | F30: =IFERROR((VLOOKUP('Uitvoer data'!E1,Verbergen!A:K,11,0)),"") | G30: =IFERROR((VLOOKUP('Uitvoer data'!E1,Verbergen!A:K,8,0)),"") | H30: =IFERROR((VLOOKUP('Uitvoer data'!E1,Verbergen!A:K,9,0)),"") | I30: =IFERROR((VLOOKUP('Uitvoer data'!E1,Verbergen!A:E,5,0)),"") | J30: =IFERROR((VLOOKUP('Uitvoer data'!E1,Verbergen!1:1048576,3,0)),"")
B31: Signaleringswaarde: | I31: =85% -> 0.85 | J31: =IFERROR((VLOOKUP('Uitvoer data'!E1,Verbergen!1:1048576,2,0)),"")
J34: Henk van der Woude
J35: Melior Advies
J37: Versie: 29-08-2025

Sheet Invoer eindresultaten
B2: ='Invoer doelen'!B2 -> Naam school: | D2: ='Invoer doelen'!C2 -> 0
B3: ='Invoer doelen'!B4 -> Schooljaar: | D3: ='Invoer doelen'!C4 -> 0
B5: Toelichting:
B6: Vul hieronder de resultaten in van de doorstroomtoets (of tot 2023 de eindtoets). Noteer het
B7: aantal leerlingen in dat referentieniveau 1F en 2F/1S heeft behaald.
B8: Let op: leerlingen die 2F of 1S hebben behaald, moeten ook worden meegeteld bij 1F,
B9: aangezien zij dit niveau eveneens hebben bereikt.
B11: Schooljaar | C11: Aantal | D11: Lezen | F11: Rekenen | H11: Taalverzorging
C12: leerlingen | D12: 1F | E12: 2F | F12: 1F | G12: 1S | H12: 1F | I12: 2F

Sheet Invoer tussenresultaten
B2: ='Invoer doelen'!B2 -> Naam school: | D2: ='Invoer doelen'!C2 -> 0
B3: ='Invoer doelen'!B4 -> Schooljaar: | D3: ='Invoer doelen'!C4 -> 0
B13: Januari / Februari | K13: Juni
B14: Leerjaar | C14: Aantal | D14: Begrijpend lezen | F14: Rekenen | H14: Spelling | K14: Leerjaar | L14: aantal | M14: Begrijpend lezen | O14: Rekenen | Q14: Spelling
C15: leerlingen | D15: E | E15: A+B+C | F15: V- | G15: I+II | H15: V- | I15: I+II+III | L15: leerlingen | M15: E | N15: A+B+C | O15: V- | P15: I+II | Q15: V- | R15: I+II+III
B16: M3 | K16: E3
B17: M4 | K17: E4
B18: M5 | K18: E5
B19: M6 | K19: E6
B20: M7 | K20: E7
B21: B8

Sheet Uitvoer data
A1: WEGING AFGEROND: | E1: =ROUND('Invoer doelen'!C5,1) -> 0
A3: DOORSTROOMTOETS
B4: aantal | C4: Lezen | G4: Rekenen | K4: Taalverzorging | O4: Totaal
A5: Schooljaar | B5: leerlingen | C5: <1F | D5: 1F-2F | E5: 1F | F5: 2F | G5: <1F | H5: 1F-1S | I5: 1F | J5: 1S | K5: <1F | L5: 1F-2F | M5: 1F | N5: 2F | O5: <1F | P5: 1F | Q5: 1F-2F/1S | R5: 2F/1S | S5: 3xn
A6: ='Invoer eindresultaten'!B13 -> 0 | B6: ='Invoer eindresultaten'!C13 -> 0 | C6: =B6-E6 -> 0 | D6: =E6-F6 -> 0 | E6: ='Invoer eindresultaten'!D13 -> 0 | F6: ='Invoer eindresultaten'!E13 -> 0 | G6: =B6-I6 -> 0 | H6: =I6-J6 -> 0 | I6: ='Invoer eindresultaten'!F13 -> 0 | J6: ='Invoer eindresultaten'!G13 -> 0 | K6: =B6-M6 -> 0 | L6: =M6-N6 -> 0 | M6: ='Invoer eindresultaten'!H13 -> 0 | N6: ='Invoer eindresultaten'!I13 -> 0 | O6: =C6+G6+K6 -> 0 | P6: =E6+I6+M6 -> 0 | Q6: =D6+H6+L6 -> 0 | R6: =F6+J6+N6 -> 0 | S6: =3*B6 -> 0
A7: ='Invoer eindresultaten'!B14 -> 0 | B7: ='Invoer eindresultaten'!C14 -> 0 | C7: =B7-E7 -> 0 | D7: =E7-F7 -> 0 | E7: ='Invoer eindresultaten'!D14 -> 0 | F7: ='Invoer eindresultaten'!E14 -> 0 | G7: =B7-I7 -> 0 | H7: =I7-J7 -> 0 | I7: ='Invoer eindresultaten'!F14 -> 0 | J7: ='Invoer eindresultaten'!G14 -> 0 | K7: =B7-M7 -> 0 | L7: =M7-N7 -> 0 | M7: ='Invoer eindresultaten'!H14 -> 0 | N7: ='Invoer eindresultaten'!I14 -> 0 | O7: =C7+G7+K7 -> 0 | P7: =E7+I7+M7 -> 0 | Q7: =D7+H7+L7 -> 0 | R7: =F7+J7+N7 -> 0 | S7: =3*B7 -> 0
A8: ='Invoer eindresultaten'!B15 -> 0 | B8: ='Invoer eindresultaten'!C15 -> 0 | C8: =B8-E8 -> 0 | D8: =E8-F8 -> 0 | E8: ='Invoer eindresultaten'!D15 -> 0 | F8: ='Invoer eindresultaten'!E15 -> 0 | G8: =B8-I8 -> 0 | H8: =I8-J8 -> 0 | I8: ='Invoer eindresultaten'!F15 -> 0 | J8: ='Invoer eindresultaten'!G15 -> 0 | K8: =B8-M8 -> 0 | L8: =M8-N8 -> 0 | M8: ='Invoer eindresultaten'!H15 -> 0 | N8: ='Invoer eindresultaten'!I15 -> 0 | O8: =C8+G8+K8 -> 0 | P8: =E8+I8+M8 -> 0 | Q8: =D8+H8+L8 -> 0 | R8: =F8+J8+N8 -> 0 | S8: =3*B8 -> 0
A9: Totaal 3jrs | B9: =SUM(B6:B8) -> 0 | C9: =SUM(C6:C8) -> 0 | D9: =SUM(D6:D8) -> 0 | E9: =SUM(E6:E8) -> 0 | F9: =SUM(F6:F8) -> 0 | G9: =SUM(G6:G8) -> 0 | H9: =SUM(H6:H8) -> 0 | I9: =SUM(I6:I8) -> 0 | ... N9: =SUM(N6:N8) -> 0 | O9: =C9+G9+K9 -> 0 | P9: =E9+I9+M9 -> 0 | Q9: =D9+H9+L9 -> 0 | R9: =F9+J9+N9 -> 0 | S9: =3*B9 -> 0
A11: Schooljaar | B11: <1F | C11: 1F | D11: 1F-2F | E11: 2F | F11: GLG 1F | G11: GLG 2F | H11: Ambitie 1F | I11: Ambitie 2F | J11: <1F | K11: 1F | L11: 1F-1S | M11: 1S | N11: GLG 1F | O11: GLG 1S | P11: Ambitie 1F | Q11: Ambitie 1S | R11: <1F | S11: 1F | T11: 1F-2F | U11: 2F | V11: GLG 1F | W11: GLG 2F | X11: Ambitie 1F | Y11: Ambitie 2F | Z11: <1F | AA11: 1F | AB11: 1F-2F | AC11: 2F / 1S | AD11: GLG 1F | AE11: GLG 2F/1S | AF11: SW 1F | AG11: SW 2F/1S | AH11: Ambitie 1F | AI11: Ambitie 2F/1S
F12: =IFERROR((VLOOKUP('Uitvoer data'!E1,Verbergen!A:K,6,0)),"") | G12: =IFERROR((VLOOKUP('Uitvoer data'!E1,Verbergen!A:K,7,0)),"") | H12: ='Invoer doelen'!C29 -> 0 | I12: ='Invoer doelen'!D29 -> 0 | N12: =IFERROR((VLOOKUP('Uitvoer data'!E1,Verbergen!A:K,10,0)),"") | O12: =IFERROR((VLOOKUP('Uitvoer data'!E1,Verbergen!A:K,11,0)),"") | P12: ='Invoer doelen'!E29 -> 0 | Q12: ='Invoer doelen'!F29 -> 0 | V12: =IFERROR((VLOOKUP('Uitvoer data'!E1,Verbergen!A:K,8,0)),"") | W12: =IFERROR((VLOOKUP('Uitvoer data'!E1,Verbergen!A:K,9,0)),"") | X12: ='Invoer doelen'!G29 -> 0 | Y12: ='Invoer doelen'!H29 -> 0 | AD12: =IFERROR((VLOOKUP('Uitvoer data'!E1,Verbergen!A:E,5,0)),"") | AE12: =IFERROR((VLOOKUP('Uitvoer data'!E1,Verbergen!1:1048576,3,0)),"") | AF12: 0.85 | AG12: =IFERROR((VLOOKUP('Uitvoer data'!E1,Verbergen!1:1048576,2,0)),"") | AH12: ='Invoer doelen'!I29 -> 0 | AI12: ='Invoer doelen'!J29 -> 0
A13: ='Invoer eindresultaten'!B13 -> 0 | B13: =C6/B6 -> #DIV/0! | C13: =(B6-C6)/B6 -> #DIV/0! | D13: =(B6-((B6-E6)+F6))/B6 -> #DIV/0! | E13: =F6/B6 -> #DIV/0! | F13: =IFERROR((VLOOKUP('Uitvoer data'!E1,Verbergen!A:K,6,0)),"") | G13: =IFERROR((VLOOKUP('Uitvoer data'!E1,Verbergen!A:K,7,0)),"") | H13: ='Invoer doelen'!C29 -> 0 | I13: ='Invoer doelen'!D29 -> 0 | J13: =G6/B6 -> #DIV/0! | K13: =(B6-G6)/B6 -> #DIV/0! | L13: =(B6-((B6-I6)+J6))/B6 -> #DIV/0! | M13: =J6/B6 -> #DIV/0! | N13: =IFERROR((VLOOKUP('Uitvoer data'!E1,Verbergen!A:K,10,0)),"") | O13: =IFERROR((VLOOKUP('Uitvoer data'!E1,Verbergen!A:K,11,0)),"") | P13: ='Invoer doelen'!E29 -> 0 | Q13: ='Invoer doelen'!F29 -> 0 | R13: =K6/B6 -> #DIV/0! | S13: =(B6-K6)/B6 -> #DIV/0! | T13: =(B6-((B6-M6)+N6))/B6 -> #DIV/0! | U13: =N6/B6 -> #DIV/0! | V13: =IFERROR((VLOOKUP('Uitvoer data'!E1,Verbergen!A:K,8,0)),"") | W13: =IFERROR((VLOOKUP('Uitvoer data'!E1,Verbergen!A:K,9,0)),"") | X13: ='Invoer doelen'!G29 -> 0 | Y13: ='Invoer doelen'!H29 -> 0 | Z13: =O6/S6 -> #DIV/0! | AA13: =P6/S6 -> #DIV/0! | AB13: =(S6-((S6-P6)+R6))/S6 -> #DIV/0! | AC13: =R6/S6 -> #DIV/0! | AD13: =IFERROR((VLOOKUP('Uitvoer data'!E1,Verbergen!A:E,5,0)),"") | AE13: =IFERROR((VLOOKUP('Uitvoer data'!E1,Verbergen!1:1048576,3,0)),"") | AF13: 0.85 | AG13: =IFERROR((VLOOKUP('Uitvoer data'!E1,Verbergen!1:1048576,2,0)),"") | AH13: ='Invoer doelen'!I29 -> 0 | AI13: ='Invoer doelen'!J29 -> 0
A14: ='Invoer eindresultaten'!B14 -> 0 | B14: =C7/B7 -> #DIV/0! | C14: =(B7-C7)/B7 -> #DIV/0! | D14: =(B7-((B7-E7)+F7))/B7 -> #DIV/0! | E14: =F7/B7 -> #DIV/0! | F14: =IFERROR((VLOOKUP('Uitvoer data'!E1,Verbergen!A:K,6,0)),"") | G14: =IFERROR((VLOOKUP('Uitvoer data'!E1,Verbergen!A:K,7,0)),"") | H14: ='Invoer doelen'!C29 -> 0 | I14: ='Invoer doelen'!D29 -> 0 | J14: =G7/B7 -> #DIV/0! | K14: =(B7-G7)/B7 -> #DIV/0! | L14: =(B7-((B7-I7)+J7))/B7 -> #DIV/0! | M14: =J7/B7 -> #DIV/0! | N14: =IFERROR((VLOOKUP('Uitvoer data'!E1,Verbergen!A:K,10,0)),"") | O14: =IFERROR((VLOOKUP('Uitvoer data'!E1,Verbergen!A:K,11,0)),"") | P14: ='Invoer doelen'!E29 -> 0 | Q14: ='Invoer doelen'!F29 -> 0 | R14: =K7/B7 -> #DIV/0! | S14: =(B7-K7)/B7 -> #DIV/0! | T14: =(B7-((B7-M7)+N7))/B7 -> #DIV/0! | U14: =N7/B7 -> #DIV/0! | V14: =IFERROR((VLOOKUP('Uitvoer data'!E1,Verbergen!A:K,8,0)),"") | W14: =IFERROR((VLOOKUP('Uitvoer data'!E1,Verbergen!A:K,9,0)),"") | X14: ='Invoer doelen'!G29 -> 0 | Y14: ='Invoer doelen'!H29 -> 0 | Z14: =O7/S7 -> #DIV/0! | AA14: =P7/S7 -> #DIV/0! | AB14: =(S7-((S7-P7)+R7))/S7 -> #DIV/0! | AC14: =R7/S7 -> #DIV/0! | AD14: =IFERROR((VLOOKUP('Uitvoer data'!E1,Verbergen!A:E,5,0)),"") | AE14: =IFERROR((VLOOKUP('Uitvoer data'!E1,Verbergen!1:1048576,3,0)),"") | AF14: 0.85 | AG14: =IFERROR((VLOOKUP('Uitvoer data'!E1,Verbergen!1:1048576,2,0)),"") | AH14: ='Invoer doelen'!I29 -> 0 | AI14: ='Invoer doelen'!J29 -> 0
A15: ='Invoer eindresultaten'!B15 -> 0 | B15: =C8/B8 -> #DIV/0! | C15: =(B8-C8)/B8 -> #DIV/0! | D15: =(B8-((B8-E8)+F8))/B8 -> #DIV/0! | E15: =F8/B8 -> #DIV/0! | F15: =IFERROR((VLOOKUP('Uitvoer data'!E1,Verbergen!A:K,6,0)),"") | G15: =IFERROR((VLOOKUP('Uitvoer data'!E1,Verbergen!A:K,7,0)),"") | H15: ='Invoer doelen'!C29 -> 0 | I15: ='Invoer doelen'!D29 -> 0 | J15: =G8/B8 -> #DIV/0! | K15: =(B8-G8)/B8 -> #DIV/0! | L15: =(B8-((B8-I8)+J8))/B8 -> #DIV/0! | M15: =J8/B8 -> #DIV/0! | N15: =IFERROR((VLOOKUP('Uitvoer data'!E1,Verbergen!A:K,10,0)),"") | O15: =IFERROR((VLOOKUP('Uitvoer data'!E1,Verbergen!A:K,11,0)),"") | P15: ='Invoer doelen'!E29 -> 0 | Q15: ='Invoer doelen'!F29 -> 0 | R15: =K8/B8 -> #DIV/0! | S15: =(B8-K8)/B8 -> #DIV/0! | T15: =(B8-((B8-M8)+N8))/B8 -> #DIV/0! | U15: =N8/B8 -> #DIV/0! | V15: =IFERROR((VLOOKUP('Uitvoer data'!E1,Verbergen!A:K,8,0)),"") | W15: =IFERROR((VLOOKUP('Uitvoer data'!E1,Verbergen!A:K,9,0)),"") | X15: ='Invoer doelen'!G29 -> 0 | Y15: ='Invoer doelen'!H29 -> 0 | Z15: =O8/S8 -> #DIV/0! | AA15: =P8/S8 -> #DIV/0! | AB15: =(S8-((S8-P8)+R8))/S8 -> #DIV/0! | AC15: =R8/S8 -> #DIV/0! | AD15: =IFERROR((VLOOKUP('Uitvoer data'!E1,Verbergen!A:E,5,0)),"") | AE15: =IFERROR((VLOOKUP('Uitvoer data'!E1,Verbergen!1:1048576,3,0)),"") | AF15: 0.85 | AG15: =IFERROR((VLOOKUP('Uitvoer data'!E1,Verbergen!1:1048576,2,0)),"") | AH15: ='Invoer doelen'!I29 -> 0 | AI15: ='Invoer doelen'!J29 -> 0
A16: 3 jrs | B16: =C9/B9 -> #DIV/0! | C16: =(B9-C9)/B9 -> #DIV/0! | D16: =(B9-((B9-E9)+F9))/B9 -> #DIV/0! | E16: =F9/B9 -> #DIV/0! | F16: =IFERROR((VLOOKUP('Uitvoer data'!E1,Verbergen!A:K,6,0)),"") | G16: =IFERROR((VLOOKUP('Uitvoer data'!E1,Verbergen!A:K,7,0)),"") | H16: ='Invoer doelen'!C29 -> 0 | I16: ='Invoer doelen'!D29 -> 0 | J16: =G9/B9 -> #DIV/0! | K16: =(B9-G9)/B9 -> #DIV/0! | L16: =(B9-((B9-I9)+J9))/B9 -> #DIV/0! | M16: =J9/B9 -> #DIV/0! | N16: =IFERROR((VLOOKUP('Uitvoer data'!E1,Verbergen!A:K,10,0)),"") | O16: =IFERROR((VLOOKUP('Uitvoer data'!E1,Verbergen!A:K,11,0)),"") | P16: ='Invoer doelen'!E29 -> 0 | Q16: ='Invoer doelen'!F29 -> 0 | R16: =K9/B9 -> #DIV/0! | S16: =(B9-K9)/B9 -> #DIV/0! | T16: =(B9-((B9-M9)+N9))/B9 -> #DIV/0! | U16: =N9/B9 -> #DIV/0! | V16: =IFERROR((VLOOKUP('Uitvoer data'!E1,Verbergen!A:K,8,0)),"") | W16: =IFERROR((VLOOKUP('Uitvoer data'!E1,Verbergen!A:K,9,0)),"") | X16: ='Invoer doelen'!G29 -> 0 | Y16: ='Invoer doelen'!H29 -> 0 | Z16: =O9/S9 -> #DIV/0! | AA16: =P9/S9 -> #DIV/0! | AB16: =(S9-((S9-P9)+R9))/S9 -> #DIV/0! | AC16: =R9/S9 -> #DIV/0! | AD16: =IFERROR((VLOOKUP('Uitvoer data'!E1,Verbergen!A:E,5,0)),"") | AE16: =IFERROR((VLOOKUP('Uitvoer data'!E1,Verbergen!1:1048576,3,0)),"") | AF16: 0.85 | AG16: =IFERROR((VLOOKUP('Uitvoer data'!E1,Verbergen!1:1048576,2,0)),"") | AH16: ='Invoer doelen'!I29 -> 0 | AI16: ='Invoer doelen'!J29 -> 0
F17: =IFERROR((VLOOKUP('Uitvoer data'!E1,Verbergen!A:K,6,0)),"") | G17: =IFERROR((VLOOKUP('Uitvoer data'!E1,Verbergen!A:K,7,0)),"") | H17: ='Invoer doelen'!C29 -> 0 | I17: ='Invoer doelen'!D29 -> 0 | N17: =IFERROR((VLOOKUP('Uitvoer data'!E1,Verbergen!A:K,10,0)),"") | O17: =IFERROR((VLOOKUP('Uitvoer data'!E1,Verbergen!A:K,11,0)),"") | P17: ='Invoer doelen'!E29 -> 0 | Q17: ='Invoer doelen'!F29 -> 0 | V17: =IFERROR((VLOOKUP('Uitvoer data'!E1,Verbergen!A:K,8,0)),"") | W17: =IFERROR((VLOOKUP('Uitvoer data'!E1,Verbergen!A:K,9,0)),"") | X17: ='Invoer doelen'!G29 -> 0 | Y17: ='Invoer doelen'!H29 -> 0 | AD17: =IFERROR((VLOOKUP('Uitvoer data'!E1,Verbergen!A:E,5,0)),"") | AE17: =IFERROR((VLOOKUP('Uitvoer data'!E1,Verbergen!1:1048576,3,0)),"") | AF17: 0.85 | AG17: =IFERROR((VLOOKUP('Uitvoer data'!E1,Verbergen!1:1048576,2,0)),"") | AH17: ='Invoer doelen'!I29 -> 0 | AI17: ='Invoer doelen'!J29 -> 0
A19: TUSSENRESULTATEN MIDDEN
B20: Begrijpend lezen | D20: Begrijpend lezen | F20: GLG Begrijpend lezen | G20: GLG Begrijpend lezen | H20: Ambitie Begrijpend lezen | I20: ='Invoer doelen'!D29 -> 0 | L20: Rekenen | M20: Rekenen | N20: GLG Rekenen | O20: GLG Rekenen | P20: Ambitie Rekenen | Q20: Ambitie Rekenen | T20: Taalverzorging | U20: Taalverzorging | V20: GLG Taalverzorging | W20: GLG Taalverzorging | X20: Ambitie Taalverzorging | Y20: Ambitie Taalverzorging | Z20: Totaal | AA20: 1F | AB20: Totaal | AC20: Totaal | AD20: GLG 1F | AE20: GLG 2F/1S | AF20: SW 1F | AG20: SW 2F/1S | AH20: Ambitie 1F | AI20: Ambitie 2F
A21: Leerjaar | B21: 1F-2F | C21: 1F | D21: 2F | E21: <1F | F21: GLG 1F | G21: GLG 2F | H21: Ambitie 1F | I21: Ambitie 2F | J21: <1F | K21: 1F | L21: 1F-1S | M21: 1S | N21: GLG 1F | O21: GLG 1S | P21: Ambitie 1F | Q21: Ambitie 1S | R21: <1F | S21: 1F | T21: 1F-2F | U21: 2F | V21: GLG 1F | W21: GLG 2F | X21: Ambitie 1F | Y21: Ambitie 2F | Z21: <1F | AA21: 1F | AB21: 1F-2F | AC21: 2F | AD21: GLG 1F | AE21: GLG 2F/1S | AF21: SW 1F | AG21: SW 2F/1S | AH21: Ambitie 1F | AI21: Ambitie 2F/1S
F22: =F12 | G22: =IFERROR((VLOOKUP('Uitvoer data'!E1,Verbergen!A:K,7,0)),"") | H22: ='Invoer doelen'!C29 -> 0 | I22: ='Invoer doelen'!D29 -> 0 | N22: =N12 | O22: =O12 | P22: ='Invoer doelen'!E29 -> 0 | Q22: ='Invoer doelen'!F29 -> 0 | V22: =IFERROR((VLOOKUP('Uitvoer data'!E1,Verbergen!A:K,8,0)),"") | W22: =W12 | X22: ='Invoer doelen'!G29 -> 0 | Y22: ='Invoer doelen'!H29 -> 0 | AD22: =IFERROR((VLOOKUP('Uitvoer data'!E1,Verbergen!A:E,5,0)),"") | AE22: =IFERROR((VLOOKUP('Uitvoer data'!E1,Verbergen!1:1048576,3,0)),"") | AF22: 0.85 | AG22: =IFERROR((VLOOKUP('Uitvoer data'!E1,Verbergen!1:1048576,2,0)),"") | AH22: ='Invoer doelen'!I29 -> 0 | AI22: ='Invoer doelen'!J29 -> 0
A23: M3 | B23: =('Invoer tussenresultaten'!C16-('Invoer tussenresultaten'!D16+'Invoer tussenresultaten'!E16))/'Invoer tussenresultaten'!C16 -> #DIV/0! | C23: =('Invoer tussenresultaten'!C16-'Invoer tussenresultaten'!D16)/'Invoer tussenresultaten'!C16 -> #DIV/0! | D23: ='Invoer tussenresultaten'!E16/'Invoer tussenresultaten'!C16 -> #DIV/0! | E23: ='Invoer tussenresultaten'!D16/'Invoer tussenresultaten'!C16 -> #DIV/0! | F23: =F12 | G23: =IFERROR((VLOOKUP('Uitvoer data'!E1,Verbergen!A:K,7,0)),"") | H23: ='Invoer doelen'!C29 -> 0 | I23: ='Invoer doelen'!D29 -> 0 | J23: ='Invoer tussenresultaten'!F16/'Invoer tussenresultaten'!C16 -> #DIV/0! | K23: =('Invoer tussenresultaten'!C16-'Invoer tussenresultaten'!F16)/'Invoer tussenresultaten'!C16 -> #DIV/0! | L23: =('Invoer tussenresultaten'!C16-('Invoer tussenresultaten'!F16+'Invoer tussenresultaten'!G16))/'Invoer tussenresultaten'!C16 -> #DIV/0! | M23: ='Invoer tussenresultaten'!G16/'Invoer tussenresultaten'!C16 -> #DIV/0! | N23: =N12 | O23: =O12 | P23: ='Invoer doelen'!E29 -> 0 | Q23: ='Invoer doelen'!F29 -> 0 | R23: ='Invoer tussenresultaten'!H16/'Invoer tussenresultaten'!C16 -> #DIV/0! | S23: =('Invoer tussenresultaten'!C16-'Invoer tussenresultaten'!H16)/'Invoer tussenresultaten'!C16 -> #DIV/0! | T23: =('Invoer tussenresultaten'!C16-('Invoer tussenresultaten'!H16+'Invoer tussenresultaten'!I16))/'Invoer tussenresultaten'!C16 -> #DIV/0! | U23: ='Invoer tussenresultaten'!I16/'Invoer tussenresultaten'!C16 -> #DIV/0! | V23: =IFERROR((VLOOKUP('Uitvoer data'!E1,Verbergen!A:K,8,0)),"") | W23: =W12 | X23: ='Invoer doelen'!G29 -> 0 | Y23: ='Invoer doelen'!H29 -> 0 | Z23: =('Invoer tussenresultaten'!D16+'Invoer tussenresultaten'!F16+'Invoer tussenresultaten'!H16)/(3*'Invoer tussenresultaten'!C16) -> #DIV/0! | AA23: =(('Invoer tussenresultaten'!C16-'Invoer tussenresultaten'!D16)+('Invoer tussenresultaten'!C16-'Invoer tussenresultaten'!F16)+('Invoer tussenresultaten'!C16-'Invoer tussenresultaten'!H16))/(3*'Invoer tussenresultaten'!C16) -> #DIV/0! | AC23: =('Invoer tussenresultaten'!E16+'Invoer tussenresultaten'!G16+'Invoer tussenresultaten'!I16)/(3*'Invoer tussenresultaten'!C16) -> #DIV/0! | AD23: =IFERROR((VLOOKUP('Uitvoer data'!E1,Verbergen!A:E,5,0)),"") | AE23: =IFERROR((VLOOKUP('Uitvoer data'!E1,Verbergen!1:1048576,3,0)),"") | AF23: 0.85 | AG23: =IFERROR((VLOOKUP('Uitvoer data'!E1,Verbergen!1:1048576,2,0)),"") | AH23: ='Invoer doelen'!I29 -> 0 | AI23: ='Invoer doelen'!J29 -> 0
A24: M4 | B24: =('Invoer tussenresultaten'!C17-('Invoer tussenresultaten'!D17+'Invoer tussenresultaten'!E17))/'Invoer tussenresultaten'!C17 -> #DIV/0! | C24: =('Invoer tussenresultaten'!C17-'Invoer tussenresultaten'!D17)/'Invoer tussenresultaten'!C17 -> #DIV/0! | D24: ='Invoer tussenresultaten'!E17/'Invoer tussenresultaten'!C17 -> #DIV/0! | E24: ='Invoer tussenresultaten'!D17/'Invoer tussenresultaten'!C17 -> #DIV/0! | F24: =F12 | G24: =IFERROR((VLOOKUP('Uitvoer data'!E1,Verbergen!A:K,7,0)),"") | H24: ='Invoer doelen'!C29 -> 0 | I24: ='Invoer doelen'!D29 -> 0 | J24: ='Invoer tussenresultaten'!F17/'Invoer tussenresultaten'!C17 -> #DIV/0! | K24: =('Invoer tussenresultaten'!C17-'Invoer tussenresultaten'!F17)/'Invoer tussenresultaten'!C17 -> #DIV/0! | L24: =('Invoer tussenresultaten'!C17-('Invoer tussenresultaten'!F17+'Invoer tussenresultaten'!G17))/'Invoer tussenresultaten'!C17 -> #DIV/0! | M24: ='Invoer tussenresultaten'!G17/'Invoer tussenresultaten'!C17 -> #DIV/0! | N24: =N12 | O24: =O12 | P24: ='Invoer doelen'!E29 -> 0 | Q24: ='Invoer doelen'!F29 -> 0 | R24: ='Invoer tussenresultaten'!H17/'Invoer tussenresultaten'!C17 -> #DIV/0! | S24: =('Invoer tussenresultaten'!C17-'Invoer tussenresultaten'!H17)/'Invoer tussenresultaten'!C17 -> #DIV/0! | T24: =('Invoer tussenresultaten'!C17-('Invoer tussenresultaten'!H17+'Invoer tussenresultaten'!I17))/'Invoer tussenresultaten'!C17 -> #DIV/0! | U24: ='Invoer tussenresultaten'!I17/'Invoer tussenresultaten'!C17 -> #DIV/0! | V24: =IFERROR((VLOOKUP('Uitvoer data'!E1,Verbergen!A:K,8,0)),"") | W24: =W12 | X24: ='Invoer doelen'!G29 -> 0 | Y24: ='Invoer doelen'!H29 -> 0 | Z24: =('Invoer tussenresultaten'!D17+'Invoer tussenresultaten'!F17+'Invoer tussenresultaten'!H17)/(3*'Invoer tussenresultaten'!C17) -> #DIV/0! | AA24: =(('Invoer tussenresultaten'!C17-'Invoer tussenresultaten'!D17)+('Invoer tussenresultaten'!C17-'Invoer tussenresultaten'!F17)+('Invoer tussenresultaten'!C17-'Invoer tussenresultaten'!H17))/(3*'Invoer tussenresultaten'!C17) -> #DIV/0! | AC24: =('Invoer tussenresultaten'!E17+'Invoer tussenresultaten'!G17+'Invoer tussenresultaten'!I17)/(3*'Invoer tussenresultaten'!C17) -> #DIV/0! | AD24: =IFERROR((VLOOKUP('Uitvoer data'!E1,Verbergen!A:E,5,0)),"") | AE24: =IFERROR((VLOOKUP('Uitvoer data'!E1,Verbergen!1:1048576,3,0)),"") | AF24: 0.85 | AG24: =IFERROR((VLOOKUP('Uitvoer data'!E1,Verbergen!1:1048576,2,0)),"") | AH24: ='Invoer doelen'!I29 -> 0 | AI24: ='Invoer doelen'!J29 -> 0
A25: M5 | B25: =('Invoer tussenresultaten'!C18-('Invoer tussenresultaten'!D18+'Invoer tussenresultaten'!E18))/'Invoer tussenresultaten'!C18 -> #DIV/0! | C25: =('Invoer tussenresultaten'!C18-'Invoer tussenresultaten'!D18)/'Invoer tussenresultaten'!C18 -> #DIV/0! | D25: ='Invoer tussenresultaten'!E18/'Invoer tussenresultaten'!C18 -> #DIV/0! | E25: ='Invoer tussenresultaten'!D18/'Invoer tussenresultaten'!C18 -> #DIV/0! | F25: =F12 | G25: =IFERROR((VLOOKUP('Uitvoer data'!E1,Verbergen!A:K,7,0)),"") | H25: ='Invoer doelen'!C29 -> 0 | I25: ='Invoer doelen'!D29 -> 0 | J25: ='Invoer tussenresultaten'!F18/'Invoer tussenresultaten'!C18 -> #DIV/0! | K25: =('Invoer tussenresultaten'!C18-'Invoer tussenresultaten'!F18)/'Invoer tussenresultaten'!C18 -> #DIV/0! | L25: =('Invoer tussenresultaten'!C18-('Invoer tussenresultaten'!F18+'Invoer tussenresultaten'!G18))/'Invoer tussenresultaten'!C18 -> #DIV/0! | M25: ='Invoer tussenresultaten'!G18/'Invoer tussenresultaten'!C18 -> #DIV/0! | N25: =N12 | O25: =O12 | P25: ='Invoer doelen'!E29 -> 0 | Q25: ='Invoer doelen'!F29 -> 0 | R25: ='Invoer tussenresultaten'!H18/'Invoer tussenresultaten'!C18 -> #DIV/0! | S25: =('Invoer tussenresultaten'!C18-'Invoer tussenresultaten'!H18)/'Invoer tussenresultaten'!C18 -> #DIV/0! | T25: =('Invoer tussenresultaten'!C18-('Invoer tussenresultaten'!H18+'Invoer tussenresultaten'!I18))/'Invoer tussenresultaten'!C18 -> #DIV/0! | U25: ='Invoer tussenresultaten'!I18/'Invoer tussenresultaten'!C18 -> #DIV/0! | V25: =IFERROR((VLOOKUP('Uitvoer data'!E1,Verbergen!A:K,8,0)),"") | W25: =W12 | X25: ='Invoer doelen'!G29 -> 0 | Y25: ='Invoer doelen'!H29 -> 0 | Z25: =('Invoer tussenresultaten'!D18+'Invoer tussenresultaten'!F18+'Invoer tussenresultaten'!H18)/(3*'Invoer tussenresultaten'!C18) -> #DIV/0! | AA25: =(('Invoer tussenresultaten'!C18-'Invoer tussenresultaten'!D18)+('Invoer tussenresultaten'!C18-'Invoer tussenresultaten'!F18)+('Invoer tussenresultaten'!C18-'Invoer tussenresultaten'!H18))/(3*'Invoer tussenresultaten'!C18) -> #DIV/0! | AC25: =('Invoer tussenresultaten'!E18+'Invoer tussenresultaten'!G18+'Invoer tussenresultaten'!I18)/(3*'Invoer tussenresultaten'!C18) -> #DIV/0! | AD25: =IFERROR((VLOOKUP('Uitvoer data'!E1,Verbergen!A:E,5,0)),"") | AE25: =IFERROR((VLOOKUP('Uitvoer data'!E1,Verbergen!1:1048576,3,0)),"") | AF25: 0.85 | AG25: =IFERROR((VLOOKUP('Uitvoer data'!E1,Verbergen!1:1048576,2,0)),"") | AH25: ='Invoer doelen'!I29 -> 0 | AI25: ='Invoer doelen'!J29 -> 0
A26: M6 | B26: =('Invoer tussenresultaten'!C19-('Invoer tussenresultaten'!D19+'Invoer tussenresultaten'!E19))/'Invoer tussenresultaten'!C19 -> #DIV/0! | C26: =('Invoer tussenresultaten'!C19-'Invoer tussenresultaten'!D19)/'Invoer tussenresultaten'!C19 -> #DIV/0! | D26: ='Invoer tussenresultaten'!E19/'Invoer tussenresultaten'!C19 -> #DIV/0! | E26: ='Invoer tussenresultaten'!D19/'Invoer tussenresultaten'!C19 -> #DIV/0! | F26: =F12 | G26: =IFERROR((VLOOKUP('Uitvoer data'!E1,Verbergen!A:K,7,0)),"") | H26: ='Invoer doelen'!C29 -> 0 | I26: ='Invoer doelen'!D29 -> 0 | J26: ='Invoer tussenresultaten'!F19/'Invoer tussenresultaten'!C19 -> #DIV/0! | K26: =('Invoer tussenresultaten'!C19-'Invoer tussenresultaten'!F19)/'Invoer tussenresultaten'!C19 -> #DIV/0! | L26: =('Invoer tussenresultaten'!C19-('Invoer tussenresultaten'!F19+'Invoer tussenresultaten'!G19))/'Invoer tussenresultaten'!C19 -> #DIV/0! | M26: ='Invoer tussenresultaten'!G19/'Invoer tussenresultaten'!C19 -> #DIV/0! | N26: =N12 | O26: =O12 | P26: ='Invoer doelen'!E29 -> 0 | Q26: ='Invoer doelen'!F29 -> 0 | R26: ='Invoer tussenresultaten'!H19/'Invoer tussenresultaten'!C19 -> #DIV/0! | S26: =('Invoer tussenresultaten'!C19-'Invoer tussenresultaten'!H19)/'Invoer tussenresultaten'!C19 -> #DIV/0! | T26: =('Invoer tussenresultaten'!C19-('Invoer tussenresultaten'!H19+'Invoer tussenresultaten'!I19))/'Invoer tussenresultaten'!C19 -> #DIV/0! | U26: ='Invoer tussenresultaten'!I19/'Invoer tussenresultaten'!C19 -> #DIV/0! | V26: =IFERROR((VLOOKUP('Uitvoer data'!E1,Verbergen!A:K,8,0)),"") | W26: =W12 | X26: ='Invoer doelen'!G29 -> 0 | Y26: ='Invoer doelen'!H29 -> 0 | Z26: =('Invoer tussenresultaten'!D19+'Invoer tussenresultaten'!F19+'Invoer tussenresultaten'!H19)/(3*'Invoer tussenresultaten'!C19) -> #DIV/0! | AA26: =(('Invoer tussenresultaten'!C19-'Invoer tussenresultaten'!D19)+('Invoer tussenresultaten'!C19-'Invoer tussenresultaten'!F19)+('Invoer tussenresultaten'!C19-'Invoer tussenresultaten'!H19))/(3*'Invoer tussenresultaten'!C19) -> #DIV/0! | AC26: =('Invoer tussenresultaten'!E19+'Invoer tussenresultaten'!G19+'Invoer tussenresultaten'!I19)/(3*'Invoer tussenresultaten'!C19) -> #DIV/0! | AD26: =IFERROR((VLOOKUP('Uitvoer data'!E1,Verbergen!A:E,5,0)),"") | AE26: =IFERROR((VLOOKUP('Uitvoer data'!E1,Verbergen!1:1048576,3,0)),"") | AF26: 0.85 | AG26: =IFERROR((VLOOKUP('Uitvoer data'!E1,Verbergen!1:1048576,2,0)),"") | AH26: ='Invoer doelen'!I29 -> 0 | AI26: ='Invoer doelen'!J29 -> 0
A27: M7 | B27: =('Invoer tussenresultaten'!C20-('Invoer tussenresultaten'!D20+'Invoer tussenresultaten'!E20))/'Invoer tussenresultaten'!C20 -> #DIV/0! | C27: =('Invoer tussenresultaten'!C20-'Invoer tussenresultaten'!D20)/'Invoer tussenresultaten'!C20 -> #DIV/0! | D27: ='Invoer tussenresultaten'!E20/'Invoer tussenresultaten'!C20 -> #DIV/0! | E27: ='Invoer tussenresultaten'!D20/'Invoer tussenresultaten'!C20 -> #DIV/0! | F27: =F12 | G27: =IFERROR((VLOOKUP('Uitvoer data'!E1,Verbergen!A:K,7,0)),"") | H27: ='Invoer doelen'!C29 -> 0 | I27: ='Invoer doelen'!D29 -> 0 | J27: ='Invoer tussenresultaten'!F20/'Invoer tussenresultaten'!C20 -> #DIV/0! | K27: =('Invoer tussenresultaten'!C20-'Invoer tussenresultaten'!F20)/'Invoer tussenresultaten'!C20 -> #DIV/0! | L27: =('Invoer tussenresultaten'!C20-('Invoer tussenresultaten'!F20+'Invoer tussenresultaten'!G20))/'Invoer tussenresultaten'!C20 -> #DIV/0! | M27: ='Invoer tussenresultaten'!G20/'Invoer tussenresultaten'!C20 -> #DIV/0! | N27: =N12 | O27: =O12 | P27: ='Invoer doelen'!E29 -> 0 | Q27: ='Invoer doelen'!F29 -> 0 | R27: ='Invoer tussenresultaten'!H20/'Invoer tussenresultaten'!C20 -> #DIV/0! | S27: =('Invoer tussenresultaten'!C20-'Invoer tussenresultaten'!H20)/'Invoer tussenresultaten'!C20 -> #DIV/0! | T27: =('Invoer tussenresultaten'!C20-('Invoer tussenresultaten'!H20+'Invoer tussenresultaten'!I20))/'Invoer tussenresultaten'!C20 -> #DIV/0! | U27: ='Invoer tussenresultaten'!I20/'Invoer tussenresultaten'!C20 -> #DIV/0! | V27: =IFERROR((VLOOKUP('Uitvoer data'!E1,Verbergen!A:K,8,0)),"") | W27: =W12 | X27: ='Invoer doelen'!G29 -> 0 | Y27: ='Invoer doelen'!H29 -> 0 | Z27: =('Invoer tussenresultaten'!D20+'Invoer tussenresultaten'!F20+'Invoer tussenresultaten'!H20)/(3*'Invoer tussenresultaten'!C20) -> #DIV/0! | AA27: =(('Invoer tussenresultaten'!C20-'Invoer tussenresultaten'!D20)+('Invoer tussenresultaten'!C20-'Invoer tussenresultaten'!F20)+('Invoer tussenresultaten'!C20-'Invoer tussenresultaten'!H20))/(3*'Invoer tussenresultaten'!C20) -> #DIV/0! | AC27: =('Invoer tussenresultaten'!E20+'Invoer tussenresultaten'!G20+'Invoer tussenresultaten'!I20)/(3*'Invoer tussenresultaten'!C20) -> #DIV/0! | AD27: =IFERROR((VLOOKUP('Uitvoer data'!E1,Verbergen!A:E,5,0)),"") | AE27: =IFERROR((VLOOKUP('Uitvoer data'!E1,Verbergen!1:1048576,3,0)),"") | AF27: 0.85 | AG27: =IFERROR((VLOOKUP('Uitvoer data'!E1,Verbergen!1:1048576,2,0)),"") | AH27: ='Invoer doelen'!I29 -> 0 | AI27: ='Invoer doelen'!J29 -> 0
A28: B8 | B28: =('Invoer tussenresultaten'!C21-('Invoer tussenresultaten'!D21+'Invoer tussenresultaten'!E21))/'Invoer tussenresultaten'!C21 -> #DIV/0! | C28: =('Invoer tussenresultaten'!C21-'Invoer tussenresultaten'!D21)/'Invoer tussenresultaten'!C21 -> #DIV/0! | D28: ='Invoer tussenresultaten'!E21/'Invoer tussenresultaten'!C21 -> #DIV/0! | E28: ='Invoer tussenresultaten'!D21/'Invoer tussenresultaten'!C21 -> #DIV/0! | F28: =F12 | G28: =IFERROR((VLOOKUP('Uitvoer data'!E1,Verbergen!A:K,7,0)),"") | H28: ='Invoer doelen'!C29 -> 0 | I28: ='Invoer doelen'!D29 -> 0 | J28: ='Invoer tussenresultaten'!F21/'Invoer tussenresultaten'!C21 -> #DIV/0! | K28: =('Invoer tussenresultaten'!C21-'Invoer tussenresultaten'!F21)/'Invoer tussenresultaten'!C21 -> #DIV/0! | L28: =('Invoer tussenresultaten'!C21-('Invoer tussenresultaten'!F21+'Invoer tussenresultaten'!G21))/'Invoer tussenresultaten'!C21 -> #DIV/0! | M28: ='Invoer tussenresultaten'!G21/'Invoer tussenresultaten'!C21 -> #DIV/0! | N28: =N12 | O28: =O12 | P28: ='Invoer doelen'!E29 -> 0 | Q28: ='Invoer doelen'!F29 -> 0 | R28: ='Invoer tussenresultaten'!H21/'Invoer tussenresultaten'!C21 -> #DIV/0! | S28: =('Invoer tussenresultaten'!C21-'Invoer tussenresultaten'!H21)/'Invoer tussenresultaten'!C21 -> #DIV/0! | T28: =('Invoer tussenresultaten'!C21-('Invoer tussenresultaten'!H21+'Invoer tussenresultaten'!I21))/'Invoer tussenresultaten'!C21 -> #DIV/0! | U28: ='Invoer tussenresultaten'!I21/'Invoer tussenresultaten'!C21 -> #DIV/0! | V28: =IFERROR((VLOOKUP('Uitvoer data'!E1,Verbergen!A:K,8,0)),"") | W28: =W12 | X28: ='Invoer doelen'!G29 -> 0 | Y28: ='Invoer doelen'!H29 -> 0 | Z28: =('Invoer tussenresultaten'!D21+'Invoer tussenresultaten'!F21+'Invoer tussenresultaten'!H21)/(3*'Invoer tussenresultaten'!C21) -> #DIV/0! | AA28: =(('Invoer tussenresultaten'!C21-'Invoer tussenresultaten'!D21)+('Invoer tussenresultaten'!C21-'Invoer tussenresultaten'!F21)+('Invoer tussenresultaten'!C21-'Invoer tussenresultaten'!H21))/(3*'Invoer tussenresultaten'!C21) -> #DIV/0! | AC28: =('Invoer tussenresultaten'!E21+'Invoer tussenresultaten'!G21+'Invoer tussenresultaten'!I21)/(3*'Invoer tussenresultaten'!C21) -> #DIV/0! | AD28: =IFERROR((VLOOKUP('Uitvoer data'!E1,Verbergen!A:E,5,0)),"") | AE28: =IFERROR((VLOOKUP('Uitvoer data'!E1,Verbergen!1:1048576,3,0)),"") | AF28: 0.85 | AG28: =IFERROR((VLOOKUP('Uitvoer data'!E1,Verbergen!1:1048576,2,0)),"") | AH28: ='Invoer doelen'!I29 -> 0 | AI28: ='Invoer doelen'!J29 -> 0
F29: =F12 | G29: =IFERROR((VLOOKUP('Uitvoer data'!E1,Verbergen!A:K,7,0)),"") | H29: ='Invoer doelen'!C29 -> 0 | I29: ='Invoer doelen'!D29 -> 0 | N29: =N12 | O29: =O12 | P29: ='Invoer doelen'!E29 -> 0 | Q29: ='Invoer doelen'!F29 -> 0 | V29: =IFERROR((VLOOKUP('Uitvoer data'!E1,Verbergen!A:K,8,0)),"") | W29: =W12 | X29: ='Invoer doelen'!G29 -> 0 | Y29: ='Invoer doelen'!H29 -> 0 | AD29: =IFERROR((VLOOKUP('Uitvoer data'!E1,Verbergen!A:E,5,0)),"") | AE29: =IFERROR((VLOOKUP('Uitvoer data'!E1,Verbergen!1:1048576,3,0)),"") | AF29: 0.85 | AG29: =IFERROR((VLOOKUP('Uitvoer data'!E1,Verbergen!1:1048576,2,0)),"") | AH29: ='Invoer doelen'!I29 -> 0 | AI29: ='Invoer doelen'!J29 -> 0
A31: TUSSENRESULTATEN EIND
B32: Begrijpend lezen | D32: Begrijpend lezen | F32: GLG Begrijpend lezen | G32: GLG Begrijpend lezen | H32: Ambitie Begrijpend lezen | I32: ='Invoer doelen'!D38 -> 0 | L32: Rekenen | M32: Rekenen | N32: GLG Rekenen | O32: GLG Rekenen | P32: Ambitie Rekenen | Q32: Ambitie Rekenen | T32: Taalverzorging | U32: Taalverzorging | V32: GLG Taalverzorging | W32: GLG Taalverzorging | X32: Ambitie Taalverzorging | Y32: Ambitie Taalverzorging | Z32: Totaal | AA32: 1F | AB32: Totaal | AC32: Totaal | AD32: GLG 1F | AE32: GLG 2F/1S | AF32: SW 1F | AG32: SW 2F/1S | AH32: Ambitie 1F | AI32: Ambitie 2F
A33: Leerjaar | B33: 1F-2F | C33: 1F | D33: 2F | E33: <1F | F33: GLG 1F | G33: GLG 2F | H33: Ambitie 1F | I33: Ambitie 2F | J33: <1F | K33: 1F | L33: 1F-1S | M33: 1S | N33: GLG 1F | O33: GLG 1S | P33: Ambitie 1F | Q33: Ambitie 1S | R33: <1F | S33: 1F | T33: 1F-2F | U33: 2F | V33: GLG 1F | W33: GLG 2F | X33: Ambitie 1F | Y33: Ambitie 2F | Z33: <1F | AA33: 1F | AB33: 1F-2F | AC33: 2F | AD33: GLG 1F | AE33: GLG 2F/1S | AF33: SW 1F | AG33: SW 2F/1S | AH33: Ambitie 1F | AI33: Ambitie 2F/1S
F34: =F24 | G34: =IFERROR((VLOOKUP('Uitvoer data'!E1,Verbergen!A:K,7,0)),"") | H34: ='Invoer doelen'!C29 -> 0 | I34: ='Invoer doelen'!D29 -> 0 | N34: =N24 | O34: =O24 | P34: ='Invoer doelen'!E29 -> 0 | Q34: ='Invoer doelen'!F29 -> 0 | V34: =IFERROR((VLOOKUP('Uitvoer data'!E1,Verbergen!A:K,8,0)),"") | W34: =W24 | X34: ='Invoer doelen'!G29 -> 0 | Y34: ='Invoer doelen'!H29 -> 0 | AD34: =IFERROR((VLOOKUP('Uitvoer data'!E1,Verbergen!A:E,5,0)),"") | AE34: =IFERROR((VLOOKUP('Uitvoer data'!E1,Verbergen!1:1048576,3,0)),"") | AF34: 0.85 | AG34: =IFERROR((VLOOKUP('Uitvoer data'!E1,Verbergen!1:1048576,2,0)),"") | AH34: ='Invoer doelen'!I29 -> 0 | AI34: ='Invoer doelen'!J29 -> 0
A35: E3 | B35: =('Invoer tussenresultaten'!L16-('Invoer tussenresultaten'!M16+'Invoer tussenresultaten'!N16))/'Invoer tussenresultaten'!L16 -> #DIV/0! | C35: =('Invoer tussenresultaten'!L16-'Invoer tussenresultaten'!M16)/'Invoer tussenresultaten'!L16 -> #DIV/0! | D35: ='Invoer tussenresultaten'!N16/'Invoer tussenresultaten'!L16 -> #DIV/0! | E35: ='Invoer tussenresultaten'!M16/'Invoer tussenresultaten'!L16 -> #DIV/0! | F35: =F24 | G35: =IFERROR((VLOOKUP('Uitvoer data'!E1,Verbergen!A:K,7,0)),"") | H35: ='Invoer doelen'!C29 -> 0 | I35: ='Invoer doelen'!D29 -> 0 | J35: ='Invoer tussenresultaten'!O16/'Invoer tussenresultaten'!L16 -> #DIV/0! | K35: =('Invoer tussenresultaten'!L16-'Invoer tussenresultaten'!O16)/'Invoer tussenresultaten'!L16 -> #DIV/0! | L35: =('Invoer tussenresultaten'!L16-('Invoer tussenresultaten'!O16+'Invoer tussenresultaten'!P16))/'Invoer tussenresultaten'!L16 -> #DIV/0! | M35: ='Invoer tussenresultaten'!P16/'Invoer tussenresultaten'!L16 -> #DIV/0! | N35: =N24 | O35: =O24 | P35: ='Invoer doelen'!E29 -> 0 | Q35: ='Invoer doelen'!F29 -> 0 | R35: ='Invoer tussenresultaten'!Q16/'Invoer tussenresultaten'!L16 -> #DIV/0! | S35: =('Invoer tussenresultaten'!L16-'Invoer tussenresultaten'!Q16)/'Invoer tussenresultaten'!L16 -> #DIV/0! | T35: =('Invoer tussenresultaten'!L16-('Invoer tussenresultaten'!Q16+'Invoer tussenresultaten'!R16))/'Invoer tussenresultaten'!L16 -> #DIV/0! | U35: ='Invoer tussenresultaten'!R16/'Invoer tussenresultaten'!L16 -> #DIV/0! | V35: =IFERROR((VLOOKUP('Uitvoer data'!E1,Verbergen!A:K,8,0)),"") | W35: =W24 | X35: ='Invoer doelen'!G29 -> 0 | Y35: ='Invoer doelen'!H29 -> 0 | Z35: =('Invoer tussenresultaten'!M16+'Invoer tussenresultaten'!O16+'Invoer tussenresultaten'!Q16)/(3*'Invoer tussenresultaten'!L16) -> #DIV/0! | AA35: =(('Invoer tussenresultaten'!L16-'Invoer tussenresultaten'!M16)+('Invoer tussenresultaten'!L16-'Invoer tussenresultaten'!O16)+('Invoer tussenresultaten'!L16-'Invoer tussenresultaten'!Q16))/(3*'Invoer tussenresultaten'!L16) -> #DIV/0! | AC35: =('Invoer tussenresultaten'!N16+'Invoer tussenresultaten'!P16+'Invoer tussenresultaten'!R16)/(3*'Invoer tussenresultaten'!L16) -> #DIV/0! | AD35: =IFERROR((VLOOKUP('Uitvoer data'!E1,Verbergen!A:E,5,0)),"") | AE35: =IFERROR((VLOOKUP('Uitvoer data'!E1,Verbergen!1:1048576,3,0)),"") | AF35: 0.85 | AG35: =IFERROR((VLOOKUP('Uitvoer data'!E1,Verbergen!1:1048576,2,0)),"") | AH35: ='Invoer doelen'!I29 -> 0 | AI35: ='Invoer doelen'!J29 -> 0 | AJ35: E3
A36: E4 | B36: =('Invoer tussenresultaten'!L17-('Invoer tussenresultaten'!M17+'Invoer tussenresultaten'!N17))/'Invoer tussenresultaten'!L17 -> #DIV/0! | C36: =('Invoer tussenresultaten'!L17-'Invoer tussenresultaten'!M17)/'Invoer tussenresultaten'!L17 -> #DIV/0! | D36: ='Invoer tussenresultaten'!N17/'Invoer tussenresultaten'!L17 -> #DIV/0! | E36: ='Invoer tussenresultaten'!M17/'Invoer tussenresultaten'!L17 -> #DIV/0! | F36: =F24 | G36: =IFERROR((VLOOKUP('Uitvoer data'!E1,Verbergen!A:K,7,0)),"") | H36: ='Invoer doelen'!C29 -> 0 | I36: ='Invoer doelen'!D29 -> 0 | J36: ='Invoer tussenresultaten'!O17/'Invoer tussenresultaten'!L17 -> #DIV/0! | K36: =('Invoer tussenresultaten'!L17-'Invoer tussenresultaten'!O17)/'Invoer tussenresultaten'!L17 -> #DIV/0! | L36: =('Invoer tussenresultaten'!L17-('Invoer tussenresultaten'!O17+'Invoer tussenresultaten'!P17))/'Invoer tussenresultaten'!L17 -> #DIV/0! | M36: ='Invoer tussenresultaten'!P17/'Invoer tussenresultaten'!L17 -> #DIV/0! | N36: =N24 | O36: =O24 | P36: ='Invoer doelen'!E29 -> 0 | Q36: ='Invoer doelen'!F29 -> 0 | R36: ='Invoer tussenresultaten'!Q17/'Invoer tussenresultaten'!L17 -> #DIV/0! | S36: =('Invoer tussenresultaten'!L17-'Invoer tussenresultaten'!Q17)/'Invoer tussenresultaten'!L17 -> #DIV/0! | T36: =('Invoer tussenresultaten'!L17-('Invoer tussenresultaten'!Q17+'Invoer tussenresultaten'!R17))/'Invoer tussenresultaten'!L17 -> #DIV/0! | U36: ='Invoer tussenresultaten'!R17/'Invoer tussenresultaten'!L17 -> #DIV/0! | V36: =IFERROR((VLOOKUP('Uitvoer data'!E1,Verbergen!A:K,8,0)),"") | W36: =W24 | X36: ='Invoer doelen'!G29 -> 0 | Y36: ='Invoer doelen'!H29 -> 0 | Z36: =('Invoer tussenresultaten'!M17+'Invoer tussenresultaten'!O17+'Invoer tussenresultaten'!Q17)/(3*'Invoer tussenresultaten'!L17) -> #DIV/0! | AA36: =(('Invoer tussenresultaten'!L17-'Invoer tussenresultaten'!M17)+('Invoer tussenresultaten'!L17-'Invoer tussenresultaten'!O17)+('Invoer tussenresultaten'!L17-'Invoer tussenresultaten'!Q17))/(3*'Invoer tussenresultaten'!L17) -> #DIV/0! | AC36: =('Invoer tussenresultaten'!N17+'Invoer tussenresultaten'!P17+'Invoer tussenresultaten'!R17)/(3*'Invoer tussenresultaten'!L17) -> #DIV/0! | AD36: =IFERROR((VLOOKUP('Uitvoer data'!E1,Verbergen!A:E,5,0)),"") | AE36: =IFERROR((VLOOKUP('Uitvoer data'!E1,Verbergen!1:1048576,3,0)),"") | AF36: 0.85 | AG36: =IFERROR((VLOOKUP('Uitvoer data'!E1,Verbergen!1:1048576,2,0)),"") | AH36: ='Invoer doelen'!I29 -> 0 | AI36: ='Invoer doelen'!J29 -> 0
A37: E5 | B37: =('Invoer tussenresultaten'!L18-('Invoer tussenresultaten'!M18+'Invoer tussenresultaten'!N18))/'Invoer tussenresultaten'!L18 -> #DIV/0! | C37: =('Invoer tussenresultaten'!L18-'Invoer tussenresultaten'!M18)/'Invoer tussenresultaten'!L18 -> #DIV/0! | D37: ='Invoer tussenresultaten'!N18/'Invoer tussenresultaten'!L18 -> #DIV/0! | E37: ='Invoer tussenresultaten'!M18/'Invoer tussenresultaten'!L18 -> #DIV/0! | F37: =F24 | G37: =IFERROR((VLOOKUP('Uitvoer data'!E1,Verbergen!A:K,7,0)),"") | H37: ='Invoer doelen'!C29 -> 0 | I37: ='Invoer doelen'!D29 -> 0 | J37: ='Invoer tussenresultaten'!O18/'Invoer tussenresultaten'!L18 -> #DIV/0! | K37: =('Invoer tussenresultaten'!L18-'Invoer tussenresultaten'!O18)/'Invoer tussenresultaten'!L18 -> #DIV/0! | L37: =('Invoer tussenresultaten'!L18-('Invoer tussenresultaten'!O18+'Invoer tussenresultaten'!P18))/'Invoer tussenresultaten'!L18 -> #DIV/0! | M37: ='Invoer tussenresultaten'!P18/'Invoer tussenresultaten'!L18 -> #DIV/0! | N37: =N24 | O37: =O24 | P37: ='Invoer doelen'!E29 -> 0 | Q37: ='Invoer doelen'!F29 -> 0 | R37: ='Invoer tussenresultaten'!Q18/'Invoer tussenresultaten'!L18 -> #DIV/0! | S37: =('Invoer tussenresultaten'!L18-'Invoer tussenresultaten'!Q18)/'Invoer tussenresultaten'!L18 -> #DIV/0! | T37: =('Invoer tussenresultaten'!L18-('Invoer tussenresultaten'!Q18+'Invoer tussenresultaten'!R18))/'Invoer tussenresultaten'!L18 -> #DIV/0! | U37: ='Invoer tussenresultaten'!R18/'Invoer tussenresultaten'!L18 -> #DIV/0! | V37: =IFERROR((VLOOKUP('Uitvoer data'!E1,Verbergen!A:K,8,0)),"") | W37: =W24 | X37: ='Invoer doelen'!G29 -> 0 | Y37: ='Invoer doelen'!H29 -> 0 | Z37: =('Invoer tussenresultaten'!M18+'Invoer tussenresultaten'!O18+'Invoer tussenresultaten'!Q18)/(3*'Invoer tussenresultaten'!L18) -> #DIV/0! | AA37: =(('Invoer tussenresultaten'!L18-'Invoer tussenresultaten'!M18)+('Invoer tussenresultaten'!L18-'Invoer tussenresultaten'!O18)+('Invoer tussenresultaten'!L18-'Invoer tussenresultaten'!Q18))/(3*'Invoer tussenresultaten'!L18) -> #DIV/0! | AC37: =('Invoer tussenresultaten'!N18+'Invoer tussenresultaten'!P18+'Invoer tussenresultaten'!R18)/(3*'Invoer tussenresultaten'!L18) -> #DIV/0! | AD37: =IFERROR((VLOOKUP('Uitvoer data'!E1,Verbergen!A:E,5,0)),"") | AE37: =IFERROR((VLOOKUP('Uitvoer data'!E1,Verbergen!1:1048576,3,0)),"") | AF37: 0.85 | AG37: =IFERROR((VLOOKUP('Uitvoer data'!E1,Verbergen!1:1048576,2,0)),"") | AH37: ='Invoer doelen'!I29 -> 0 | AI37: ='Invoer doelen'!J29 -> 0
A38: E6 | B38: =('Invoer tussenresultaten'!L19-('Invoer tussenresultaten'!M19+'Invoer tussenresultaten'!N19))/'Invoer tussenresultaten'!L19 -> #DIV/0! | C38: =('Invoer tussenresultaten'!L19-'Invoer tussenresultaten'!M19)/'Invoer tussenresultaten'!L19 -> #DIV/0! | D38: ='Invoer tussenresultaten'!N19/'Invoer tussenresultaten'!L19 -> #DIV/0! | E38: ='Invoer tussenresultaten'!M19/'Invoer tussenresultaten'!L19 -> #DIV/0! | F38: =F24 | G38: =IFERROR((VLOOKUP('Uitvoer data'!E1,Verbergen!A:K,7,0)),"") | H38: ='Invoer doelen'!C29 -> 0 | I38: ='Invoer doelen'!D29 -> 0 | J38: ='Invoer tussenresultaten'!O19/'Invoer tussenresultaten'!L19 -> #DIV/0! | K38: =('Invoer tussenresultaten'!L19-'Invoer tussenresultaten'!O19)/'Invoer tussenresultaten'!L19 -> #DIV/0! | L38: =('Invoer tussenresultaten'!L19-('Invoer tussenresultaten'!O19+'Invoer tussenresultaten'!P19))/'Invoer tussenresultaten'!L19 -> #DIV/0! | M38: ='Invoer tussenresultaten'!P19/'Invoer tussenresultaten'!L19 -> #DIV/0! | N38: =N24 | O38: =O24 | P38: ='Invoer doelen'!E29 -> 0 | Q38: ='Invoer doelen'!F29 -> 0 | R38: ='Invoer tussenresultaten'!Q19/'Invoer tussenresultaten'!L19 -> #DIV/0! | S38: =('Invoer tussenresultaten'!L19-'Invoer tussenresultaten'!Q19)/'Invoer tussenresultaten'!L19 -> #DIV/0! | T38: =('Invoer tussenresultaten'!L19-('Invoer tussenresultaten'!Q19+'Invoer tussenresultaten'!R19))/'Invoer tussenresultaten'!L19 -> #DIV/0! | U38: ='Invoer tussenresultaten'!R19/'Invoer tussenresultaten'!L19 -> #DIV/0! | V38: =IFERROR((VLOOKUP('Uitvoer data'!E1,Verbergen!A:K,8,0)),"") | W38: =W24 | X38: ='Invoer doelen'!G29 -> 0 | Y38: ='Invoer doelen'!H29 -> 0 | Z38: =('Invoer tussenresultaten'!M19+'Invoer tussenresultaten'!O19+'Invoer tussenresultaten'!Q19)/(3*'Invoer tussenresultaten'!L19) -> #DIV/0! | AA38: =(('Invoer tussenresultaten'!L19-'Invoer tussenresultaten'!M19)+('Invoer tussenresultaten'!L19-'Invoer tussenresultaten'!O19)+('Invoer tussenresultaten'!L19-'Invoer tussenresultaten'!Q19))/(3*'Invoer tussenresultaten'!L19) -> #DIV/0! | AC38: =('Invoer tussenresultaten'!N19+'Invoer tussenresultaten'!P19+'Invoer tussenresultaten'!R19)/(3*'Invoer tussenresultaten'!L19) -> #DIV/0! | AD38: =IFERROR((VLOOKUP('Uitvoer data'!E1,Verbergen!A:E,5,0)),"") | AE38: =IFERROR((VLOOKUP('Uitvoer data'!E1,Verbergen!1:1048576,3,0)),"") | AF38: 0.85 | AG38: =IFERROR((VLOOKUP('Uitvoer data'!E1,Verbergen!1:1048576,2,0)),"") | AH38: ='Invoer doelen'!I29 -> 0 | AI38: ='Invoer doelen'!J29 -> 0
A39: E7 | B39: =('Invoer tussenresultaten'!L20-('Invoer tussenresultaten'!M20+'Invoer tussenresultaten'!N20))/'Invoer tussenresultaten'!L20 -> #DIV/0! | C39: =('Invoer tussenresultaten'!L20-'Invoer tussenresultaten'!M20)/'Invoer tussenresultaten'!L20 -> #DIV/0! | D39: ='Invoer tussenresultaten'!N20/'Invoer tussenresultaten'!L20 -> #DIV/0! | E39: ='Invoer tussenresultaten'!M20/'Invoer tussenresultaten'!L20 -> #DIV/0! | F39: =F24 | G39: =IFERROR((VLOOKUP('Uitvoer data'!E1,Verbergen!A:K,7,0)),"") | H39: ='Invoer doelen'!C29 -> 0 | I39: ='Invoer doelen'!D29 -> 0 | J39: ='Invoer tussenresultaten'!O20/'Invoer tussenresultaten'!L20 -> #DIV/0! | K39: =('Invoer tussenresultaten'!L20-'Invoer tussenresultaten'!O20)/'Invoer tussenresultaten'!L20 -> #DIV/0! | L39: =('Invoer tussenresultaten'!L20-('Invoer tussenresultaten'!O20+'Invoer tussenresultaten'!P20))/'Invoer tussenresultaten'!L20 -> #DIV/0! | M39: ='Invoer tussenresultaten'!P20/'Invoer tussenresultaten'!L20 -> #DIV/0! | N39: =N24 | O39: =O24 | P39: ='Invoer doelen'!E29 -> 0 | Q39: ='Invoer doelen'!F29 -> 0 | R39: ='Invoer tussenresultaten'!Q20/'Invoer tussenresultaten'!L20 -> #DIV/0! | S39: =('Invoer tussenresultaten'!L20-'Invoer tussenresultaten'!Q20)/'Invoer tussenresultaten'!L20 -> #DIV/0! | T39: =('Invoer tussenresultaten'!L20-('Invoer tussenresultaten'!Q20+'Invoer tussenresultaten'!R20))/'Invoer tussenresultaten'!L20 -> #DIV/0! | U39: ='Invoer tussenresultaten'!R20/'Invoer tussenresultaten'!L20 -> #DIV/0! | V39: =IFERROR((VLOOKUP('Uitvoer data'!E1,Verbergen!A:K,8,0)),"") | W39: =W24 | X39: ='Invoer doelen'!G29 -> 0 | Y39: ='Invoer doelen'!H29 -> 0 | Z39: =('Invoer tussenresultaten'!M20+'Invoer tussenresultaten'!O20+'Invoer tussenresultaten'!Q20)/(3*'Invoer tussenresultaten'!L20) -> #DIV/0! | AA39: =(('Invoer tussenresultaten'!L20-'Invoer tussenresultaten'!M20)+('Invoer tussenresultaten'!L20-'Invoer tussenresultaten'!O20)+('Invoer tussenresultaten'!L20-'Invoer tussenresultaten'!Q20))/(3*'Invoer tussenresultaten'!L20) -> #DIV/0! | AC39: =('Invoer tussenresultaten'!N20+'Invoer tussenresultaten'!P20+'Invoer tussenresultaten'!R20)/(3*'Invoer tussenresultaten'!L20) -> #DIV/0! | AD39: =IFERROR((VLOOKUP('Uitvoer data'!E1,Verbergen!A:E,5,0)),"") | AE39: =IFERROR((VLOOKUP('Uitvoer data'!E1,Verbergen!1:1048576,3,0)),"") | AF39: 0.85 | AG39: =IFERROR((VLOOKUP('Uitvoer data'!E1,Verbergen!1:1048576,2,0)),"") | AH39: ='Invoer doelen'!I29 -> 0 | AI39: ='Invoer doelen'!J29 -> 0
F40: =F24 | G40: =IFERROR((VLOOKUP('Uitvoer data'!E1,Verbergen!A:K,7,0)),"") | H40: ='Invoer doelen'!C29 -> 0 | I40: ='Invoer doelen'!D29 -> 0 | N40: =N24 | O40: =O24 | P40: ='Invoer doelen'!E29 -> 0 | Q40: ='Invoer doelen'!F29 -> 0 | V40: =IFERROR((VLOOKUP('Uitvoer data'!E1,Verbergen!A:K,8,0)),"") | W40: =W24 | X40: ='Invoer doelen'!G29 -> 0 | Y40: ='Invoer doelen'!H29 -> 0 | AD40: =IFERROR((VLOOKUP('Uitvoer data'!E1,Verbergen!A:E,5,0)),"") | AE40: =IFERROR((VLOOKUP('Uitvoer data'!E1,Verbergen!1:1048576,3,0)),"") | AF40: 0.85 | AG40: =IFERROR((VLOOKUP('Uitvoer data'!E1,Verbergen!1:1048576,2,0)),"") | AH40: ='Invoer doelen'!I29 -> 0 | AI40: ='Invoer doelen'!J29 -> 0

Sheet Grafieken totaal
B2: ='Invoer doelen'!B2 -> Naam school: | D2: ='Invoer doelen'!C2 -> 0
B3: ='Invoer doelen'!B4 -> Schooljaar: | D3: ='Invoer doelen'!C4 -> 0
B73: www.melioradvies.nl

Sheet Grafieken 1F per vak
B1: ='Invoer doelen'!B2 -> Naam school: | D1: ='Invoer doelen'!C2 -> 0
B2: ='Invoer doelen'!B4 -> Schooljaar: | D2: ='Invoer doelen'!C4 -> 0
B71: © Melior Advies
B73: www.melioradvies.nl | L73: NB: Dit betreft alleen het domein niet-werkwoorden. De domeinen werkwoorden en interpunctie zijn hierin niet meegenomen.

Sheet Grafieken 2F 1S per vak
B1: Naam school | D1: ='Invoer doelen'!C2 -> 0
B2: Schooljaar | D2: ='Invoer doelen'!C4 -> 0
B72: www.melioradvies.nl | L72: NB: alleen onderdeel niet-werkwoorden. De onderdelen werkwoorden en interpunctie zijn hierin niet meegenomen.

Sheet Grafieken per vak gecombineerd
B65: © Melior Advies | L65: NB: alleen onderdeel niet-werkwoorden. De onderdelen werkwoorden en interpunctie zijn hierin niet meegenomen.

Sheet Verbergen
A1: Schoolweging | B1: Signaleringswaarde | C1: LG 1S/2F | E1: LG 1F | F1: LG1FLez | G1: LG2FLez | H1: LG1FTav | I1: LG2FTav | J1: LG1FRek | K1: LG1SRek | M1: Schooljaren
A2: 20 | B2: 0.683 | C2: 0.788 | E2: 0.989 | F2: 0.997 | G2: 0.922 | H2: 0.986 | I2: 0.742 | J2: 0.984 | K2: 0.701 | M2: 2020-2021
A3: 20.1 | B3: 0.683 | C3: 0.788 | E3: 0.989 | F3: 0.997 | G3: 0.922 | H3: 0.986 | I3: 0.742 | J3: 0.984 | K3: 0.701 | M3: 2021-2022
A4: 20.2 | B4: 0.683 | C4: 0.788 | E4: 0.989 | F4: 0.997 | G4: 0.922 | H4: 0.986 | I4: 0.742 | J4: 0.984 | K4: 0.701 | M4: 2022-2023
A5: 20.3 | B5: 0.683 | C5: 0.788 | E5: 0.989 | F5: 0.997 | G5: 0.922 | H5: 0.986 | I5: 0.742 | J5: 0.984 | K5: 0.701 | M5: 2023-2024
A6: 20.4 | B6: 0.683 | C6: 0.788 | E6: 0.989 | F6: 0.997 | G6: 0.922 | H6: 0.986 | I6: 0.742 | J6: 0.984 | K6: 0.701 | M6: 2024-2025
A7: 20.5 | B7: 0.683 | C7: 0.788 | E7: 0.989 | F7: 0.997 | G7: 0.922 | H7: 0.986 | I7: 0.742 | J7: 0.984 | K7: 0.701 | M7: 2025-2026
A8: 20.6 | B8: 0.683 | C8: 0.788 | E8: 0.989 | F8: 0.997 | G8: 0.922 | H8: 0.986 | I8: 0.742 | J8: 0.984 | K8: 0.701 | M8: 2026-2027
A9: 20.7 | B9: 0.683 | C9: 0.788 | E9: 0.989 | F9: 0.997 | G9: 0.922 | H9: 0.986 | I9: 0.742 | J9: 0.984 | K9: 0.701
A10: 20.8 | B10: 0.683 | C10: 0.788 | E10: 0.989 | F10: 0.997 | G10: 0.922 | H10: 0.986 | I10: 0.742 | J10: 0.984 | K10: 0.701
A11: 20.9 | B11: 0.683 | C11: 0.788 | E11: 0.989 | F11: 0.997 | G11: 0.922 | H11: 0.986 | I11: 0.742 | J11: 0.984 | K11: 0.701
A12: 21 | B12: 0.65 | C12: 0.751 | E12: 0.988 | F12: 0.997 | G12: 0.904 | H12: 0.989 | I12: 0.712 | J12: 0.978 | K12: 0.636
A13: 21.1 | B13: 0.65 | C13: 0.751 | E13: 0.988 | F13: 0.997 | G13: 0.904 | H13: 0.989 | I13: 0.712 | J13: 0.978 | K13: 0.636
A14: 21.2 | B14: 0.65 | C14: 0.751 | E14: 0.988 | F14: 0.997 | G14: 0.904 | H14: 0.989 | I14: 0.712 | J14: 0.978 | K14: 0.636
A15: 21.3 | B15: 0.65 | C15: 0.751 | E15: 0.988 | F15: 0.997 | G15: 0.904 | H15: 0.989 | I15: 0.712 | J15: 0.978 | K15: 0.636
A16: 21.4 | B16: 0.65 | C16: 0.751 | E16: 0.988 | F16: 0.997 | G16: 0.904 | H16: 0.989 | I16: 0.712 | J16: 0.978 | K16: 0.636
A17: 21.5 | B17: 0.65 | C17: 0.751 | E17: 0.988 | F17: 0.997 | G17: 0.904 | H17: 0.989 | I17: 0.712 | J17: 0.978 | K17: 0.636
A18: 21.6 | B18: 0.65 | C18: 0.751 | E18: 0.988 | F18: 0.997 | G18: 0.904 | H18: 0.989 | I18: 0.712 | J18: 0.978 | K18: 0.636
A19: 21.7 | B19: 0.65 | C19: 0.751 | E19: 0.988 | F19: 0.997 | G19: 0.904 | H19: 0.989 | I19: 0.712 | J19: 0.978 | K19: 0.636
A20: 21.8 | B20: 0.65 | C20: 0.751 | E20: 0.988 | F20: 0.997 | G20: 0.904 | H20: 0.989 | I20: 0.712 | J20: 0.978 | K20: 0.636
... A202: 40 | B202: 0.303 | C202: 0.411 | E202: 0.927 | F202: 0.958 | G202: 0.495 | H202: 0.945 | I202: 0.455 | J202: 0.877 | K202: 0.282
B203: bijgewerkt 29-8-25
